BEGIN:VCALENDAR
VERSION:2.0
PRODID:icalendar-ruby
CALSCALE:GREGORIAN
METHOD:PUBLISH
BEGIN:VEVENT
DTSTAMP:20260422T121416Z
UID:26-270256@lcifoothills.org
DTSTART:20260517T180000Z
DTEND:20260517T190000Z
CLASS:PUBLIC
CREATED:20260421T103059
DESCRIPTION:
LAST-MODIFIED:20260421T103059
LOCATION:Fellowship Hall
SUMMARY:Congregational Meeting
URL;VALUE=URI:https://www.lcifoothills.org/events/congregational-meeting/20
 26-05-17
ATTACH;FILENAME=7.png;FMTTYPE=image/png:https://dq5pwpg1q8ru0.cloudfront.ne
 t/2026/04/21/17/30/58/53755cee-0514-494e-ac05-b82a6b671eda/7.png
END:VEVENT
END:VCALENDAR
